BEGIN:VCALENDAR
PRODID:-//vBulletin 6//EN
VERSION:2.0
CALSCALE:GREGORIAN
BEGIN:VEVENT
UID:2ef1d278-8e83-4d1a-8414-9036cefca9e5
DTSTAMP:20260425T005726Z
SUMMARY:2024.09.27-28 - Cieszyn\, Cieszyńska Jesień Piwna 2024
DESCRIPTION:Cieszyński Ośrodek Kultury "Dom Narodowy"\, Miasto Cieszyn (C
 ieszyn Robi Wrażenie) i główny partner wydarzenia - Arcyksiążęcy Bro
 war Zamkowy Cieszyn zapraszają na Cieszyńską Jesień Piwną 2024! {"dat
 a-align":"none"\,"data-size":"full"\,"src":"https:\\/\\/static.xx.fbcdn.ne
 t\\/images\\/emoji.php\\/v9\\/t8\\/1\\/16\\/1f341.png"} To wydarzenie skup
 ione nie tylko na piwie\, ale również na wspólnej zabawie i integracji 
 podczas gier\, zabaw\, koncertów\, a to wszystko w samym sercu miasta\, n
 a odnowionej płycie cieszyńskiego rynku! {"data-align":"none"\,"data-siz
 e":"full"\,"src":"https:\\/\\/static.xx.fbcdn.net\\/images\\/emoji.php\\/v
 9\\/tba\\/1\\/16\\/1f4e3.png"}\nNiezależnie od pogody widzimy się 27 i 2
 8 września na cieszyńskim rynku\, gdzie stanie hala namiotowa\, która z
 apewni komfortowe warunki do degustowania rzemieślniczych i regionalnych 
 piw oraz innych pyszności ze strefy gastronomicznej.
URL:https://www.browar.biz/node/2342145
DTSTART;VALUE=DATE:20240927
DTEND;VALUE=DATE:20240929
LOCATION:Cieszyn\, Rynek
END:VEVENT
END:VCALENDAR
