BEGIN:VCALENDAR
PRODID:-//vBulletin 6//EN
VERSION:2.0
CALSCALE:GREGORIAN
BEGIN:VEVENT
UID:f54d0b67-120d-4979-ac56-9a98dbcece42
DTSTAMP:20260419T203427Z
SUMMARY:2024.10.25-26 - Chojnice\, IV Chojnickie Święto Piwa
DESCRIPTION:Muzyka na żywo i 1 piwo w cenie wejścia
URL:https://www.browar.biz/node/2342242
DTSTART;VALUE=DATE:20241025
DTEND;VALUE=DATE:20241027
LOCATION:Chojnice\, Droga do Igieł 1\, Chojnice\, Browar Gościniec
END:VEVENT
END:VCALENDAR
