BEGIN:VCALENDAR
PRODID:-//vBulletin 6//EN
VERSION:2.0
CALSCALE:GREGORIAN
BEGIN:VEVENT
UID:4e29b10f-0ef5-4814-92f3-f0cee4d711c4
DTSTAMP:20260420T145138Z
SUMMARY:2024.10.05 - Lębork - Octoberfest
DESCRIPTION:5 października zapraszamy Was na wyjątkowe świętowanie jesi
 eni z naszym piwnym festiwalem. Startujemy o 16:00 przy ulicy Pionierów 1
 3!\n{"data-align":"none"\,"data-size":"full"\,"src":"https:\\/\\/static.xx
 .fbcdn.net\\/images\\/emoji.php\\/v9\\/t1f\\/1\\/16\\/1f3b6.png"} Cieszcie
  się muzyką na żywo w wykonaniu niezawodnego "Duetu od A do Z" oraz pys
 znymi daniami z grilla\, które doskonale komponują się z naszymi piwami
 .
URL:https://www.browar.biz/node/2342249
DTSTART;VALUE=DATE:20241005
LOCATION:Lębork\, Pionierów 13\, Ale Browar
END:VEVENT
END:VCALENDAR
