BEGIN:VCALENDAR
PRODID:-//vBulletin 6//EN
VERSION:2.0
CALSCALE:GREGORIAN
BEGIN:VEVENT
UID:a73838ca-f4f6-4c29-ad4b-00bf3460a226
DTSTAMP:20260419T205702Z
SUMMARY:2024.10.05 - Warszawa\, Biesiada Piwna Oktoberfest
DESCRIPTION:Biesiada piwna. Ilość miejsc ograniczona
URL:https://www.browar.biz/node/2342287
DTSTART;VALUE=DATE:20241005
LOCATION:Warszawa \, Chlubna 1\, Restauracja Dziki Zakątek
END:VEVENT
END:VCALENDAR
