BEGIN:VCALENDAR
PRODID:-//vBulletin 6//EN
VERSION:2.0
CALSCALE:GREGORIAN
BEGIN:VEVENT
UID:e0be5e51-5aca-4199-8c53-2ccfbe4cffb3
DTSTAMP:20260425T180136Z
SUMMARY:2024.12.6-7 - Chrząstawa\, VIII Gwiazdkowy KPD w Browarze Widawa
DESCRIPTION:VIII Gwiazdkowy KPD 6-7.12.2024\n\nhttps://www.facebook.com/Gwi
 azdkowyKPD\n\n1. XMas (https://bit.ly/49RNxpb)\, dla którego w tym roku s
 tylem bazowym będzie Porter Bałtycki\n2. Grodziskie\n3. Forest IPA
URL:https://www.browar.biz/node/2342647
DTSTART;VALUE=DATE:20241206
DTEND;VALUE=DATE:20241208
LOCATION:Wrocławska 97\, 55-003 Chrząstawa Mała
END:VEVENT
END:VCALENDAR
