BEGIN:VCALENDAR
PRODID:-//vBulletin 6//EN
VERSION:2.0
CALSCALE:GREGORIAN
BEGIN:VEVENT
UID:61176802-0083-4f0e-9c15-f0f433f54246
DTSTAMP:20260421T083705Z
SUMMARY:2024.12.07 - Czechy\, Ostrava\, 55 Mezinarodni Setkani Sberatelu Pi
 vovarskych suvenyru
DESCRIPTION:Jiri Kozel zaprasza w imieniu klubu kolekcjonerskiego do Domu K
 ultury Akord na 55 już giełdę kolekcjonerską
URL:https://www.browar.biz/node/2342859
DTSTART;VALUE=DATE:20241207
LOCATION:Ostrava Zabreh
END:VEVENT
END:VCALENDAR
