BEGIN:VCALENDAR
PRODID:-//vBulletin 6//EN
VERSION:2.0
CALSCALE:GREGORIAN
BEGIN:VEVENT
UID:ff2a6060-410c-4890-b238-185320c56871
DTSTAMP:20260420T040311Z
SUMMARY:2025.01.18-19 - Warszawa\, Festiwal Piwa\, Wina i Trunków Rzemiśl
 niczych
DESCRIPTION:Kolejna odsłona tego festiwalu w warszawskim Pałacu Kultury. 
 Chmiel\, jabłka i winogrona to temat przewodni podczas tych dni!\nWystawc
 y z pasją opowiedzą o tradycyjnych metodach warzenia kraftowego piwa\, p
 olecą Wam idealne wino do kolacji oraz na prezent oraz.. ugaszą Wasze pr
 agnienie
URL:https://www.browar.biz/node/2342933
DTSTART;VALUE=DATE:20250118
DTEND;VALUE=DATE:20250120
LOCATION:Warszawa Pałac Kultury i Nauki
END:VEVENT
END:VCALENDAR
