BEGIN:VCALENDAR
PRODID:-//vBulletin 6//EN
VERSION:2.0
CALSCALE:GREGORIAN
BEGIN:VEVENT
UID:f3be0959-8132-43a6-bdbc-d6c60f2747b4
DTSTAMP:20260424T063748Z
SUMMARY:2025.08.29-31 - OPOLE\, Lotny Festiwal Piwa
DESCRIPTION:Zapowiedź festiwalu na stronie. Na razie poza datą i miejscem
  jeszcze brak konkretów
URL:https://www.browar.biz/node/2343746
DTSTART;VALUE=DATE:20250829
DTEND;VALUE=DATE:20250901
LOCATION:Opole\, plac Kopernika
END:VEVENT
END:VCALENDAR
