BEGIN:VCALENDAR
PRODID:-//vBulletin 6//EN
VERSION:2.0
CALSCALE:GREGORIAN
BEGIN:VEVENT
UID:bea0d542-b613-4ed9-9bbb-2fd5a0bb0538
DTSTAMP:20260420T091435Z
SUMMARY:2024.12.21 - Piwowarska Gwiazdka w browarze Widawa
DESCRIPTION:Doroczna impreza przedświąteczna u Wojtka Frączyka w browarz
 e Widawa. Dla piwowarów i nie tylko. Od 17?\nhttps://www.facebook.com/Bro
 warWidawa
URL:https://www.browar.biz/node/2344259
DTSTART;VALUE=DATE:20241221
LOCATION:Chrząstawa Mała\, Wrocławska 97\, Browar Widawa
END:VEVENT
END:VCALENDAR
