BEGIN:VCALENDAR
PRODID:-//vBulletin 6//EN
VERSION:2.0
CALSCALE:GREGORIAN
BEGIN:VEVENT
UID:b254b67f-3d27-4cf2-bfb9-fc22a3dd315a
DTSTAMP:20260424T103948Z
SUMMARY:2025.01.25 - Warszawa\, 10 Urodziny Stanu Umysłu
DESCRIPTION:Mnóstwo ciekawych piw\, promocji\, nowości\, premier z Polski
  i z zagranicy. Piwa sprzedawane będą TYLKO na wynos a nie jak w poprzed
 nich latach można było spożywać lane w obrębie sklepu.
URL:https://www.browar.biz/node/2344736
DTSTART;VALUE=DATE:20250125
LOCATION:Warszawa Stan Umysłu
END:VEVENT
END:VCALENDAR
