BEGIN:VCALENDAR
PRODID:-//vBulletin 6//EN
VERSION:2.0
CALSCALE:GREGORIAN
BEGIN:VEVENT
UID:fffbfafe-4edc-4cbe-a8c6-fff8057232a2
DTSTAMP:20260420T184254Z
SUMMARY:2025.01.18 - Warszawa\, Baltic Porter Day w Hopito
DESCRIPTION:Premiera porterów ReCrafta Mentor IV Palo Santo i Mentor IV Je
 żyna. Podczas wieczoru także wiele okołopiwnych atrakcji i spotkanie z 
 ludźmi z ReCraftu.
URL:https://www.browar.biz/node/2344962
DTSTART;VALUE=DATE:20250118
DTEND;VALUE=DATE:20250120
LOCATION:Warszawa\, Hopito Parkingowa
END:VEVENT
END:VCALENDAR
