BEGIN:VCALENDAR
PRODID:-//vBulletin 6//EN
VERSION:2.0
CALSCALE:GREGORIAN
BEGIN:VEVENT
UID:e968a845-b32f-4c85-849d-ee2e2a2170d0
DTSTAMP:20260421T010322Z
SUMMARY:2025.03.17 - Sopot\,  St. Patrick’s Day 2025
DESCRIPTION:GUINNESS BEZ LIMITU za 89 PLN\, pyszne irlandzkie jedzenie i ś
 wietna muzyka na żywo w wykonaniu Kamila Badziocha!. W menu min. Irish St
 ew z jagnięciną\, Kidney Pie na Guinnessie i Biodrówka jagnięca w sosi
 e miętowym.
URL:https://www.browar.biz/node/2346669
DTSTART;VALUE=DATE:20250317
LOCATION:Sopot\, Mamuszki 14\, Pub Bulaj
END:VEVENT
END:VCALENDAR
