BEGIN:VCALENDAR
PRODID:-//vBulletin 6//EN
VERSION:2.0
CALSCALE:GREGORIAN
BEGIN:VEVENT
UID:0f0132bb-559f-4430-a09d-9674dbb0e179
DTSTAMP:20260420T065104Z
SUMMARY:2025.04.11-12 - KATOWICE - Silesia Beer Fest XII
DESCRIPTION:Wystawcy browarów rzemieślniczych z całej Polski zaprezentuj
 ą zarówno swoje klasyczne pozycje jak i piwa przygotowane specjalnie na 
 ten festiwal. Kilkaset różnych piw w jednym miejscu w Katowicach.
URL:https://www.browar.biz/node/2346725
DTSTART;VALUE=DATE:20250411
DTEND;VALUE=DATE:20250413
LOCATION:Katowice Międzynarodowe Centrum Kongresowe
END:VEVENT
END:VCALENDAR
