BEGIN:VCALENDAR
PRODID:-//vBulletin 6//EN
VERSION:2.0
CALSCALE:GREGORIAN
BEGIN:VEVENT
UID:88cc5549-022c-44ca-a2f1-332694be957c
DTSTAMP:20260419T232531Z
SUMMARY:2025.04.02 - WARSZAWA\, Prapremiera Grodziskich w Samych Kraftach
DESCRIPTION:W przeddzień WFP w samych Kraftach można będzie spróbowaćp
 o raz pierwszy:\n{"data-align":"none"\,"data-size":"full"\,"src":"https:\\
 /\\/static.xx.fbcdn.net\\/images\\/emoji.php\\/v9\\/t51\\/1\\/16\\/1f449.p
 ng"} Forever Young — Modern Grodziskie — uwarzonego wspólnie z Tomasz
 em Kopyrą.\n{"data-align":"none"\,"data-size":"full"\,"src":"https:\\/\\/
 static.xx.fbcdn.net\\/images\\/emoji.php\\/v9\\/t51\\/1\\/16\\/1f449.png"}
  Red Grodziskie z serii a’la Grodziskie\, uwarzonego w kooperacji z Brow
 amatorem.\nAtmosferę wędzonki podkręci nowa warka Viva Śliwa\, od PINT
 Y & NEPO {"data-align":"none"\,"data-size":"full"\,"src":"https:\\/\\/stat
 ic.xx.fbcdn.net\\/images\\/emoji.php\\/v9\\/t96\\/1\\/16\\/1f37b.png"}\nW 
 Samych Kraftach zbierze się licznie #PINTAcrew (https://www.facebook.com/
 hashtag/pintacrew?__eep__=6&__cft__%5B0%5D=AZVShydIu2aeVpkCahGdfohux1KKw_j
 k6xxXlvRK4PYDv_-vwe-EzSAgXSiD9KhvVuv2bv-Zaipq26wE-10wejmAKFaCZ9Y09E47kPV3R
 FaZfzXGuf-k9DLNvhnQlkCypYd_DFAre4JUHmxnzj3mL16y&__tn__=q)\, spotkacie też
  Tomka Kopyrę i najpewniej „jedynych i jednocześnie wszystkich 6 fanó
 w Grodziskiego” {"data-align":"none"\,"data-size":"full"\,"src":"https:\
 \/\\/static.xx.fbcdn.net\\/images\\/emoji.php\\/v9\\/t57\\/1\\/16\\/1f609.
 png"}
URL:https://www.browar.biz/node/2346915
DTSTART;VALUE=DATE:20250402
LOCATION:Warszawa Same Krafty
END:VEVENT
END:VCALENDAR
