BEGIN:VCALENDAR
PRODID:-//vBulletin 6//EN
VERSION:2.0
CALSCALE:GREGORIAN
BEGIN:VEVENT
UID:48738f31-e0c2-42ee-9dd7-bd8123ca18da
DTSTAMP:20260420T024948Z
SUMMARY:2025.05.17 - OLSZTYN\, Ukieliada
DESCRIPTION:W browarze Ukiel poleją się piwa z 4 olsztyńskich browarów.
  Będą miody pitne i cydry  z miodosytni\, grill i niespodzianki kulinarn
 e\, ping pong\, ognisko i konkursy
URL:https://www.browar.biz/node/2347690
DTSTART;VALUE=DATE:20250517
LOCATION:Olsztyn-Gutkowo browar Ukiel
END:VEVENT
END:VCALENDAR
