BEGIN:VCALENDAR
PRODID:-//vBulletin 6//EN
VERSION:2.0
CALSCALE:GREGORIAN
BEGIN:VEVENT
UID:23e08c57-3ebe-42a5-abb1-2bd354b8851e
DTSTAMP:20260420T141308Z
SUMMARY:Browar w Górze Ropczyckiej w latach 1875 - 1921. Propinacja\, dzie
 rżawy\, karczmy
DESCRIPTION:Książka "Browar w Górze Ropczyckiej w latach 1875 - 1921. Pr
 opinacja\, dzierżawy\, karczmy" jest już dostępna w księgarniach. Ksi
 ążka to swoiste studium małego\, folwarcznego browaru w realiach galicy
 jskich. Ważną częścią książki jest omówienie propinacji galicyjski
 ej (ta skończyła się wraz z nadejściem 1911 roku) oraz analiza systemu
  funkcjonowania karczm w kluczu ropczyckim.  Książka była gotowa już w
  listopadzie ubiegłego roku\, jednak względy formalne spowodowały\, że
  ukazuje się dopiero teraz. Nakład nie jest\, niestety\, zbyt duży - wi
 ęc raczej trzeba się pośpieszyć!
URL:https://www.browar.biz/node/2349432
DTSTART;VALUE=DATE:20250720
END:VEVENT
END:VCALENDAR
