BEGIN:VCALENDAR
PRODID:-//vBulletin 6//EN
VERSION:2.0
CALSCALE:GREGORIAN
BEGIN:VEVENT
UID:f94883b3-2e74-4546-b476-14514606f801
DTSTAMP:20260421T192318Z
SUMMARY:Praga Pn.\, Wileńska 25\, White Crow
DESCRIPTION:knajpa jest godnym następcą 'zakładu mięsnego'\nmamy tu 17 
 (chyba) kranów i smaczną pizzę na miejscu\nklimat pozostał z grubsza t
 en sam\, tyle że inicjatywa ma historię...\notóż ekipa 'white crow' w 
 całości i z szyldem zaimportowała się z mińska\nskąd musiała się e
 wakuować po antyłukaszenkowskich protestach 2022 roku\nw trakcie któryc
 h jako jedna z nielicznych knajp nie zamykała drzwi przed uciekającymi\n
 jest to warte odnotowania\, jak mniemam\nps. a naprzeciwko jest kolejna kn
 ajpa\, może ktoś się wybierze i opisze :)
URL:https://www.browar.biz/node/2349905
DTSTART;VALUE=DATE:20250824
LOCATION:Wileńska 25
END:VEVENT
END:VCALENDAR
