BEGIN:VCALENDAR
PRODID:-//vBulletin 6//EN
VERSION:2.0
CALSCALE:GREGORIAN
BEGIN:VEVENT
UID:7e4f828f-4635-44ca-98b3-d4d8609d4b23
DTSTAMP:20260421T061857Z
SUMMARY:2025.08.30 - KSAWERÓW\, DOZO Fest 2025
DESCRIPTION:
URL:https://www.browar.biz/node/2350268
DTSTART;VALUE=DATE:20250830
LOCATION:browar Ziemia obiecana\, ulica Pocztowa 10A\, 95-054 Ksawerów\, P
 olska
END:VEVENT
END:VCALENDAR
