BEGIN:VCALENDAR
PRODID:-//vBulletin 6//EN
VERSION:2.0
CALSCALE:GREGORIAN
BEGIN:VEVENT
UID:f473f0c2-183f-4c6f-a95a-418cc56394ea
DTSTAMP:20260421T102758Z
SUMMARY:2026.03.21 - RZESZÓW\, 12 Międzynarodowa Giełda Birofiliów
DESCRIPTION:Organizatorzy podali datę przyszłorocznej imprezy w Rzeszowie
URL:https://www.browar.biz/node/2351380
DTSTART;VALUE=DATE:20260321
LOCATION:Rzeszów\, Krakowska 289
END:VEVENT
END:VCALENDAR
