BEGIN:VCALENDAR
PRODID:-//vBulletin 6//EN
VERSION:2.0
CALSCALE:GREGORIAN
BEGIN:VEVENT
UID:fb3904c1-5e3d-424f-8e86-ff37c1c9e4a8
DTSTAMP:20260420T002214Z
SUMMARY:2026.05.22-23 - GDAŃSK\, Hevelka
DESCRIPTION:to za organizatorem. Zamieszczam jako że jest data.
URL:https://www.browar.biz/node/2352401
DTSTART;VALUE=DATE:20260522
DTEND;VALUE=DATE:20260524
LOCATION:ulica Pokoleń Lechii Gdańsk 1\, 80-560 Gdańsk\, Polska
END:VEVENT
END:VCALENDAR
