BEGIN:VCALENDAR
PRODID:-//vBulletin 6//EN
VERSION:2.0
CALSCALE:GREGORIAN
BEGIN:VEVENT
UID:08379f24-d868-40bd-ac7d-969f282fb47f
DTSTAMP:20260425T124049Z
SUMMARY:2026.05.01-02 - KOSZĘCIN
DESCRIPTION:Zapraszamy\n\nJak komuś się nudzi\n\nW piątek będzie DJ :)\
 n\nI możecie się pozwiedzać browar\n\nW piątek będę do 17\n\nW sobot
 ę dłużej ale bez DJ\n\nByda jo groł na warzelni :):stout:
URL:https://www.browar.biz/node/2355130
DTSTART;VALUE=DATE:20260501
DTEND;VALUE=DATE:20260503
LOCATION:Koszęcin\, browar Śląsk
END:VEVENT
END:VCALENDAR
